BEGIN:VCALENDAR
VERSION:2.0
PRODID:-//Village of New Madison - ECPv6.15.17.1//NONSGML v1.0//EN
CALSCALE:GREGORIAN
METHOD:PUBLISH
X-ORIGINAL-URL:https://villageofnewmadison.com
X-WR-CALDESC:Events for Village of New Madison
REFRESH-INTERVAL;VALUE=DURATION:PT1H
X-Robots-Tag:noindex
X-PUBLISHED-TTL:PT1H
BEGIN:VTIMEZONE
TZID:America/New_York
BEGIN:DAYLIGHT
TZOFFSETFROM:-0500
TZOFFSETTO:-0400
TZNAME:EDT
DTSTART:20220313T070000
END:DAYLIGHT
BEGIN:STANDARD
TZOFFSETFROM:-0400
TZOFFSETTO:-0500
TZNAME:EST
DTSTART:20221106T060000
END:STANDARD
BEGIN:DAYLIGHT
TZOFFSETFROM:-0500
TZOFFSETTO:-0400
TZNAME:EDT
DTSTART:20230312T070000
END:DAYLIGHT
BEGIN:STANDARD
TZOFFSETFROM:-0400
TZOFFSETTO:-0500
TZNAME:EST
DTSTART:20231105T060000
END:STANDARD
BEGIN:DAYLIGHT
TZOFFSETFROM:-0500
TZOFFSETTO:-0400
TZNAME:EDT
DTSTART:20240310T070000
END:DAYLIGHT
BEGIN:STANDARD
TZOFFSETFROM:-0400
TZOFFSETTO:-0500
TZNAME:EST
DTSTART:20241103T060000
END:STANDARD
END:VTIMEZONE
BEGIN:VEVENT
DTSTART;VALUE=DATE:20231009
DTEND;VALUE=DATE:20231010
DTSTAMP:20260419T161922
CREATED:20230216T162612Z
LAST-MODIFIED:20230216T162612Z
UID:734-1696809600-1696895999@villageofnewmadison.com
SUMMARY:Columbus Day
DESCRIPTION:Office Closed
URL:https://villageofnewmadison.com/event/columbus-day/
END:VEVENT
BEGIN:VEVENT
DTSTART;TZID=America/New_York:20231016T170000
DTEND;TZID=America/New_York:20231016T190000
DTSTAMP:20260419T161922
CREATED:20230216T174848Z
LAST-MODIFIED:20231016T145709Z
UID:759-1697475600-1697482800@villageofnewmadison.com
SUMMARY:Council Meeting
DESCRIPTION:6-8 p.m.
URL:https://villageofnewmadison.com/event/council-meeting/
END:VEVENT
BEGIN:VEVENT
DTSTART;TZID=America/New_York:20231017T080000
DTEND;TZID=America/New_York:20231017T170000
DTSTAMP:20260419T161922
CREATED:20231005T122128Z
LAST-MODIFIED:20231005T122128Z
UID:1067-1697529600-1697562000@villageofnewmadison.com
SUMMARY:Hydrant Flow Testing
DESCRIPTION:
URL:https://villageofnewmadison.com/event/hydrant-flow-testing/
END:VEVENT
BEGIN:VEVENT
DTSTART;TZID=America/New_York:20231020T080000
DTEND;TZID=America/New_York:20231020T170000
DTSTAMP:20260419T161922
CREATED:20231005T122200Z
LAST-MODIFIED:20231005T122200Z
UID:1069-1697788800-1697821200@villageofnewmadison.com
SUMMARY:Hydrant Flow Testing
DESCRIPTION:
URL:https://villageofnewmadison.com/event/hydrant-flow-testing-2/
END:VEVENT
BEGIN:VEVENT
DTSTART;TZID=America/New_York:20231025T080000
DTEND;TZID=America/New_York:20231025T170000
DTSTAMP:20260419T161922
CREATED:20231005T122233Z
LAST-MODIFIED:20231005T122233Z
UID:1071-1698220800-1698253200@villageofnewmadison.com
SUMMARY:Hydrant Flow Testing
DESCRIPTION:
URL:https://villageofnewmadison.com/event/hydrant-flow-testing-3/
END:VEVENT
BEGIN:VEVENT
DTSTART;TZID=America/New_York:20231029T140000
DTEND;TZID=America/New_York:20231029T160000
DTSTAMP:20260419T161922
CREATED:20230817T141637Z
LAST-MODIFIED:20230817T141637Z
UID:1028-1698588000-1698595200@villageofnewmadison.com
SUMMARY:Trick-or-Treat
DESCRIPTION:Halloween Trick-or-Treat
URL:https://villageofnewmadison.com/event/trick-or-treat/
END:VEVENT
BEGIN:VEVENT
DTSTART;TZID=America/New_York:20231030T080000
DTEND;TZID=America/New_York:20231030T170000
DTSTAMP:20260419T161922
CREATED:20231005T122255Z
LAST-MODIFIED:20231005T122255Z
UID:1073-1698652800-1698685200@villageofnewmadison.com
SUMMARY:Hydrant Flow Testing
DESCRIPTION:
URL:https://villageofnewmadison.com/event/hydrant-flow-testing-4/
END:VEVENT
END:VCALENDAR