BEGIN:VCALENDAR
VERSION:2.0
PRODID:-//Village of New Madison - ECPv6.15.17.1//NONSGML v1.0//EN
CALSCALE:GREGORIAN
METHOD:PUBLISH
X-ORIGINAL-URL:https://villageofnewmadison.com
X-WR-CALDESC:Events for Village of New Madison
REFRESH-INTERVAL;VALUE=DURATION:PT1H
X-Robots-Tag:noindex
X-PUBLISHED-TTL:PT1H
BEGIN:VTIMEZONE
TZID:America/New_York
BEGIN:DAYLIGHT
TZOFFSETFROM:-0500
TZOFFSETTO:-0400
TZNAME:EDT
DTSTART:20210314T070000
END:DAYLIGHT
BEGIN:STANDARD
TZOFFSETFROM:-0400
TZOFFSETTO:-0500
TZNAME:EST
DTSTART:20211107T060000
END:STANDARD
BEGIN:DAYLIGHT
TZOFFSETFROM:-0500
TZOFFSETTO:-0400
TZNAME:EDT
DTSTART:20220313T070000
END:DAYLIGHT
BEGIN:STANDARD
TZOFFSETFROM:-0400
TZOFFSETTO:-0500
TZNAME:EST
DTSTART:20221106T060000
END:STANDARD
BEGIN:DAYLIGHT
TZOFFSETFROM:-0500
TZOFFSETTO:-0400
TZNAME:EDT
DTSTART:20230312T070000
END:DAYLIGHT
BEGIN:STANDARD
TZOFFSETFROM:-0400
TZOFFSETTO:-0500
TZNAME:EST
DTSTART:20231105T060000
END:STANDARD
END:VTIMEZONE
BEGIN:VEVENT
DTSTART;TZID=America/New_York:20220321T180000
DTEND;TZID=America/New_York:20220321T193000
DTSTAMP:20260421T062833
CREATED:20211222T141715Z
LAST-MODIFIED:20211222T141715Z
UID:427-1647885600-1647891000@villageofnewmadison.com
SUMMARY:Village Council Meeting
DESCRIPTION:
URL:https://villageofnewmadison.com/event/village-council-meeting-3/
LOCATION:City Building\, 124 S. Harrison St.\, New Madison\, OH\, 45346\, United States
END:VEVENT
BEGIN:VEVENT
DTSTART;TZID=America/New_York:20220328T100000
DTEND;TZID=America/New_York:20220328T100000
DTSTAMP:20260421T062833
CREATED:20220323T151312Z
LAST-MODIFIED:20220323T151312Z
UID:552-1648461600-1648461600@villageofnewmadison.com
SUMMARY:Water shut-off for delinquent accounts
DESCRIPTION:Water shut-off for delinquent accounts
URL:https://villageofnewmadison.com/event/water-shut-off-for-delinquent-accounts/
END:VEVENT
END:VCALENDAR